BEGIN:VCALENDAR
VERSION:2.0
PRODID:-//Routt County Republicans - ECPv6.15.18//NONSGML v1.0//EN
CALSCALE:GREGORIAN
METHOD:PUBLISH
X-WR-CALNAME:Routt County Republicans
X-ORIGINAL-URL:https://routtgop.com
X-WR-CALDESC:Events for Routt County Republicans
REFRESH-INTERVAL;VALUE=DURATION:PT1H
X-Robots-Tag:noindex
X-PUBLISHED-TTL:PT1H
BEGIN:VTIMEZONE
TZID:America/Denver
BEGIN:DAYLIGHT
TZOFFSETFROM:-0700
TZOFFSETTO:-0600
TZNAME:MDT
DTSTART:20250309T090000
END:DAYLIGHT
BEGIN:STANDARD
TZOFFSETFROM:-0600
TZOFFSETTO:-0700
TZNAME:MST
DTSTART:20251102T080000
END:STANDARD
BEGIN:DAYLIGHT
TZOFFSETFROM:-0700
TZOFFSETTO:-0600
TZNAME:MDT
DTSTART:20260308T090000
END:DAYLIGHT
BEGIN:STANDARD
TZOFFSETFROM:-0600
TZOFFSETTO:-0700
TZNAME:MST
DTSTART:20261101T080000
END:STANDARD
BEGIN:DAYLIGHT
TZOFFSETFROM:-0700
TZOFFSETTO:-0600
TZNAME:MDT
DTSTART:20270314T090000
END:DAYLIGHT
BEGIN:STANDARD
TZOFFSETFROM:-0600
TZOFFSETTO:-0700
TZNAME:MST
DTSTART:20271107T080000
END:STANDARD
END:VTIMEZONE
BEGIN:VEVENT
DTSTART;TZID=America/Denver:20260513T160000
DTEND;TZID=America/Denver:20260513T180000
DTSTAMP:20260419T152101
CREATED:20260401T181246Z
LAST-MODIFIED:20260401T182540Z
UID:4499-1778688000-1778695200@routtgop.com
SUMMARY:Happy Hour! Location Primrose 4:00-6:00! 🌸
DESCRIPTION:Routt County Republicans host a monthly happy-social hour for new and existing republicans or independents to enjoy each others company.
URL:https://routtgop.com/event/happy-hour-location-primrose-400-630-%f0%9f%8c%b8/
LOCATION:Primrose\, 1110 Yampa Street\, Steamboat Springs\, Colorado\, CO\, 80477\, United States
END:VEVENT
BEGIN:VEVENT
DTSTART;TZID=America/Denver:20260520T173000
DTEND;TZID=America/Denver:20260520T193000
DTSTAMP:20260419T152101
CREATED:20251223T194253Z
LAST-MODIFIED:20251223T194253Z
UID:3564-1779298200-1779305400@routtgop.com
SUMMARY:Routt County Republicans Central Committee Meeting
DESCRIPTION:The Central Committee meeting is for all Routt County Republicans and unaffiliated voters for coffee and conversation at 5:30 pm. Business meeting at 6 pm.  Come and learn who we are!  Happy May 🌸
URL:https://routtgop.com/event/routt-county-republicans-central-committee-meeting-23/
LOCATION:Community Room\, 135 6th Street\, Steamboat Springs\, CO\, 80487\, United States
END:VEVENT
BEGIN:VEVENT
DTSTART;TZID=America/Denver:20260617T173000
DTEND;TZID=America/Denver:20260617T193000
DTSTAMP:20260419T152101
CREATED:20251223T194626Z
LAST-MODIFIED:20251223T194626Z
UID:3566-1781717400-1781724600@routtgop.com
SUMMARY:Routt County Republicans Central Committee Meeting
DESCRIPTION:The Central Committee meeting is for all Routt County Republicans and unaffiliated voters for coffee and conversation at 5:30 pm. Business meeting at 6 pm.  Come and learn who we are! Happy Juneteenth!
URL:https://routtgop.com/event/routt-county-republicans-central-committee-meeting-24/
LOCATION:Community Room\, 135 6th Street\, Steamboat Springs\, CO\, 80487\, United States
END:VEVENT
BEGIN:VEVENT
DTSTART;TZID=America/Denver:20260715T173000
DTEND;TZID=America/Denver:20260715T193000
DTSTAMP:20260419T152101
CREATED:20251223T194828Z
LAST-MODIFIED:20251223T194828Z
UID:3568-1784136600-1784143800@routtgop.com
SUMMARY:Routt County Republicans Central Committee Meeting
DESCRIPTION:The Central Committee meeting is for all Routt County Republicans and unaffiliated voters for coffee and conversation at 5:30 pm. Business meeting at 6 pm.  Come and learn who we are! Happy 4th of July 🎆
URL:https://routtgop.com/event/routt-county-republicans-central-committee-meeting-25/
LOCATION:Community Room\, 135 6th Street\, Steamboat Springs\, CO\, 80487\, United States
END:VEVENT
BEGIN:VEVENT
DTSTART;TZID=America/Denver:20260819T173000
DTEND;TZID=America/Denver:20260819T193000
DTSTAMP:20260419T152101
CREATED:20251223T195203Z
LAST-MODIFIED:20251223T195718Z
UID:3570-1787160600-1787167800@routtgop.com
SUMMARY:Routt County Republicans Central Committee Meeting
DESCRIPTION:The Central Committee meeting is for all Routt County Republicans and unaffiliated voters for coffee and conversation at 5:30 pm. Business meeting at 6 pm.  Come and learn who we are!
URL:https://routtgop.com/event/routt-county-republicans-central-committee-meeting-26/
LOCATION:Community Room\, 135 6th Street\, Steamboat Springs\, CO\, 80487\, United States
END:VEVENT
BEGIN:VEVENT
DTSTART;TZID=America/Denver:20260916T173000
DTEND;TZID=America/Denver:20260916T193000
DTSTAMP:20260419T152101
CREATED:20251223T195407Z
LAST-MODIFIED:20251223T195407Z
UID:3572-1789579800-1789587000@routtgop.com
SUMMARY:Routt County Republicans Central Committee Meeting
DESCRIPTION:The Central Committee meeting is for all Routt County Republicans and unaffiliated voters for coffee and conversation at 5:30 pm. Business meeting at 6 pm.  Come and learn who we are! Happy Fall 🍂
URL:https://routtgop.com/event/routt-county-republicans-central-committee-meeting-27/
LOCATION:Community Room\, 135 6th Street\, Steamboat Springs\, CO\, 80487\, United States
END:VEVENT
BEGIN:VEVENT
DTSTART;TZID=America/Denver:20261021T173000
DTEND;TZID=America/Denver:20261021T193000
DTSTAMP:20260419T152101
CREATED:20251223T195550Z
LAST-MODIFIED:20251223T195550Z
UID:3574-1792603800-1792611000@routtgop.com
SUMMARY:Routt County Republicans Central Committee Meeting
DESCRIPTION:The Central Committee meeting is for all Routt County Republicans and unaffiliated voters for coffee and conversation at 5:30 pm. Business meeting at 6 pm.  Come and learn who we are!  Happy Halloween 🎃
URL:https://routtgop.com/event/routt-county-republicans-central-committee-meeting-28/
LOCATION:Commissioners Hearing Room\, 522 Lincoln Avenue\, 3rd floor\, Steamboat Springs\, 80477\, United States
END:VEVENT
BEGIN:VEVENT
DTSTART;TZID=America/Denver:20261118T173000
DTEND;TZID=America/Denver:20261118T193000
DTSTAMP:20260419T152101
CREATED:20251223T200348Z
LAST-MODIFIED:20251223T200348Z
UID:3576-1795023000-1795030200@routtgop.com
SUMMARY:Routt County Republicans Central Committee Meeting
DESCRIPTION:The Central Committee meeting is for all Routt County Republicans and unaffiliated voters for coffee and conversation at 5:30 pm. Business meeting at 6 pm.  Come and learn who we are!  Happy Thanksgiving 🦃
URL:https://routtgop.com/event/routt-county-republicans-central-committee-meeting-29/
LOCATION:Community Room\, 135 6th Street\, Steamboat Springs\, CO\, 80487\, United States
END:VEVENT
BEGIN:VEVENT
DTSTART;TZID=America/Denver:20261216T173000
DTEND;TZID=America/Denver:20261216T193000
DTSTAMP:20260419T152101
CREATED:20251223T200938Z
LAST-MODIFIED:20251223T200938Z
UID:3578-1797442200-1797449400@routtgop.com
SUMMARY:Routt County Republicans Central Committee Meeting
DESCRIPTION:The Central Committee meeting is for all Routt County Republicans and unaffiliated voters for coffee and conversation at 5:30 pm. Business meeting at 6 pm.  Come and learn who we are!  HO HO HOI 🎄
URL:https://routtgop.com/event/routt-county-republicans-central-committee-meeting-30/
LOCATION:Community Room\, 135 6th Street\, Steamboat Springs\, CO\, 80487\, United States
END:VEVENT
END:VCALENDAR